BEGIN:VCALENDAR
VERSION:2.0
PRODID:-//Point Me By - ECPv6.13.1//NONSGML v1.0//EN
CALSCALE:GREGORIAN
METHOD:PUBLISH
X-WR-CALNAME:Point Me By
X-ORIGINAL-URL:https://www.pointmeby.com
X-WR-CALDESC:Events for Point Me By
REFRESH-INTERVAL;VALUE=DURATION:PT1H
X-Robots-Tag:noindex
X-PUBLISHED-TTL:PT1H
BEGIN:VTIMEZONE
TZID:UTC
BEGIN:STANDARD
TZOFFSETFROM:+0000
TZOFFSETTO:+0000
TZNAME:UTC
DTSTART:20170101T000000
END:STANDARD
END:VTIMEZONE
BEGIN:VEVENT
DTSTART;TZID=UTC:20180729T080000
DTEND;TZID=UTC:20180729T170000
DTSTAMP:20260422T115209
CREATED:20171126T193415Z
LAST-MODIFIED:20171126T193415Z
UID:2603-1532851200-1532883600@www.pointmeby.com
SUMMARY:Windy City BMW Autocross III
DESCRIPTION:
URL:https://www.pointmeby.com/event/windy-city-bmw-autocross-iii/
LOCATION:Sears Centre\, 5333 Prairie Stone Pkwy\, Hoffman Estates\, IL\, 60192\, United States
CATEGORIES:Autocross
ATTACH;FMTTYPE=image/jpeg:https://www.pointmeby.com/wp-content/uploads/2017/01/wcax.jpg
END:VEVENT
BEGIN:VEVENT
DTSTART;TZID=UTC:20180728T080000
DTEND;TZID=UTC:20180728T170000
DTSTAMP:20260422T115209
CREATED:20180418T083617Z
LAST-MODIFIED:20180418T083617Z
UID:2909-1532764800-1532797200@www.pointmeby.com
SUMMARY:Porsche Club Autox #4
DESCRIPTION:PCA Members: 1\nst Driver: $45\, 2\nnd Driver Sharing car: $45 or $20\nfor family members (Please register as 1st driver)\nNon-PCA Members: 1st or 2nd Driver: $50\nRegistration:\n• Every participant must first set up an account and register at\nwww.clubregistration.net\n• Day of and Onsite-Registering participants must also register and\npay through www.clubregistration.net\n• Pre-registration is highly recommended\n• Each event will be limited to 60 participants to maximize number of\nruns for participants\n• Day of\, including Onsite-Registration add $15 to prices listed above
URL:https://www.pointmeby.com/event/porsche-club-autox-4/
LOCATION:Boomers Stadium\, 1999 Springinsguth Rd\, Schaumburg\, IL\, 60193\, United States
CATEGORIES:Autocross
ATTACH;FMTTYPE=image/jpeg:https://www.pointmeby.com/wp-content/uploads/2017/01/laps.jpg
END:VEVENT
BEGIN:VEVENT
DTSTART;TZID=UTC:20180722T080000
DTEND;TZID=UTC:20180722T170000
DTSTAMP:20260422T115209
CREATED:20180418T064049Z
LAST-MODIFIED:20180418T064049Z
UID:2845-1532246400-1532278800@www.pointmeby.com
SUMMARY:SCCA Chicago Autocross #4
DESCRIPTION:
URL:https://www.pointmeby.com/event/scca-chicago-autocross-4/
LOCATION:Route 66 Raceway\, 3200 S. Chicago St\, Joliet\, IL\, 60433\, United States
CATEGORIES:Autocross
ATTACH;FMTTYPE=image/jpeg:https://www.pointmeby.com/wp-content/uploads/2017/01/sccatn.jpg
END:VEVENT
BEGIN:VEVENT
DTSTART;TZID=UTC:20180715T080000
DTEND;TZID=UTC:20180715T170000
DTSTAMP:20260422T115209
CREATED:20180418T134810Z
LAST-MODIFIED:20180418T134810Z
UID:2965-1531641600-1531674000@www.pointmeby.com
SUMMARY:WCMC AutoX#10
DESCRIPTION:
URL:https://www.pointmeby.com/event/wcmc-autox10/
LOCATION:Boomers Stadium\, 1999 Springinsguth Rd\, Schaumburg\, IL\, 60193\, United States
CATEGORIES:Autocross
ATTACH;FMTTYPE=image/jpeg:https://www.pointmeby.com/wp-content/uploads/2017/02/wcmc.jpg
END:VEVENT
BEGIN:VEVENT
DTSTART;TZID=UTC:20180714T080000
DTEND;TZID=UTC:20180714T170000
DTSTAMP:20260422T115209
CREATED:20180418T134813Z
LAST-MODIFIED:20180418T134813Z
UID:2964-1531555200-1531587600@www.pointmeby.com
SUMMARY:WCMC AutoX Special Event
DESCRIPTION:
URL:https://www.pointmeby.com/event/wcmc-autox-special-event-2/
LOCATION:Boomers Stadium\, 1999 Springinsguth Rd\, Schaumburg\, IL\, 60193\, United States
CATEGORIES:Autocross
ATTACH;FMTTYPE=image/jpeg:https://www.pointmeby.com/wp-content/uploads/2017/02/wcmc.jpg
END:VEVENT
BEGIN:VEVENT
DTSTART;TZID=UTC:20180707T080000
DTEND;TZID=UTC:20180707T170000
DTSTAMP:20260422T115209
CREATED:20180418T134816Z
LAST-MODIFIED:20180418T134816Z
UID:2963-1530950400-1530982800@www.pointmeby.com
SUMMARY:WCMC AutoX#9
DESCRIPTION:
URL:https://www.pointmeby.com/event/wcmc-autox9/
LOCATION:Boomers Stadium\, 1999 Springinsguth Rd\, Schaumburg\, IL\, 60193\, United States
CATEGORIES:Autocross
ATTACH;FMTTYPE=image/jpeg:https://www.pointmeby.com/wp-content/uploads/2017/02/wcmc.jpg
END:VEVENT
BEGIN:VEVENT
DTSTART;TZID=UTC:20180701T080000
DTEND;TZID=UTC:20180701T170000
DTSTAMP:20260422T115209
CREATED:20180418T070655Z
LAST-MODIFIED:20180418T070655Z
UID:2862-1530432000-1530464400@www.pointmeby.com
SUMMARY:SCCA Milwaukee AX #6
DESCRIPTION:
URL:https://www.pointmeby.com/event/scca-milwaukee-ax-6/
LOCATION:Miller Park\, 1 Brewers Way\, Milwaukee\, WI\, 53214\, United States
CATEGORIES:Autocross
ATTACH;FMTTYPE=image/jpeg:https://www.pointmeby.com/wp-content/uploads/2017/01/sccatn.jpg
END:VEVENT
BEGIN:VEVENT
DTSTART;TZID=UTC:20180630T080000
DTEND;TZID=UTC:20180630T170000
DTSTAMP:20260422T115209
CREATED:20180418T070657Z
LAST-MODIFIED:20180418T070657Z
UID:2861-1530345600-1530378000@www.pointmeby.com
SUMMARY:SCCA Milwaukee AX #5
DESCRIPTION:
URL:https://www.pointmeby.com/event/scca-milwaukee-ax-5/
LOCATION:Miller Park\, 1 Brewers Way\, Milwaukee\, WI\, 53214\, United States
CATEGORIES:Autocross
ATTACH;FMTTYPE=image/jpeg:https://www.pointmeby.com/wp-content/uploads/2017/01/sccatn.jpg
END:VEVENT
BEGIN:VEVENT
DTSTART;TZID=UTC:20180624T080000
DTEND;TZID=UTC:20180624T170000
DTSTAMP:20260422T115209
CREATED:20180418T134818Z
LAST-MODIFIED:20180418T134818Z
UID:2962-1529827200-1529859600@www.pointmeby.com
SUMMARY:WCMC AutoX#8
DESCRIPTION:
URL:https://www.pointmeby.com/event/wcmc-autox8/
LOCATION:Tire Rack\, 7101 Vorden Pkwy\, South Bend\, IN\, 46628\, United States
CATEGORIES:Autocross
ATTACH;FMTTYPE=image/jpeg:https://www.pointmeby.com/wp-content/uploads/2017/02/wcmc.jpg
END:VEVENT
BEGIN:VEVENT
DTSTART;TZID=UTC:20180623T080000
DTEND;TZID=UTC:20180623T170000
DTSTAMP:20260422T115209
CREATED:20180418T134821Z
LAST-MODIFIED:20180418T134821Z
UID:2961-1529740800-1529773200@www.pointmeby.com
SUMMARY:WCMC AutoX#7
DESCRIPTION:
URL:https://www.pointmeby.com/event/wcmc-autox7/
LOCATION:Tire Rack\, 7101 Vorden Pkwy\, South Bend\, IN\, 46628\, United States
CATEGORIES:Autocross
ATTACH;FMTTYPE=image/jpeg:https://www.pointmeby.com/wp-content/uploads/2017/02/wcmc.jpg
END:VEVENT
BEGIN:VEVENT
DTSTART;TZID=UTC:20180617T080000
DTEND;TZID=UTC:20180617T170000
DTSTAMP:20260422T115209
CREATED:20180418T064052Z
LAST-MODIFIED:20180418T064052Z
UID:2844-1529222400-1529254800@www.pointmeby.com
SUMMARY:SCCA Chicago Autocross #3
DESCRIPTION:
URL:https://www.pointmeby.com/event/scca-chicago-autocross-3/
LOCATION:Route 66 Raceway\, 3200 S. Chicago St\, Joliet\, IL\, 60433\, United States
CATEGORIES:Autocross
ATTACH;FMTTYPE=image/jpeg:https://www.pointmeby.com/wp-content/uploads/2017/01/sccatn.jpg
END:VEVENT
BEGIN:VEVENT
DTSTART;TZID=UTC:20180616T080000
DTEND;TZID=UTC:20180616T170000
DTSTAMP:20260422T115209
CREATED:20180418T134824Z
LAST-MODIFIED:20180418T134824Z
UID:2960-1529136000-1529168400@www.pointmeby.com
SUMMARY:WCMC AutoX#6
DESCRIPTION:
URL:https://www.pointmeby.com/event/wcmc-autox6/
LOCATION:Boomers Stadium\, 1999 Springinsguth Rd\, Schaumburg\, IL\, 60193\, United States
CATEGORIES:Autocross
ATTACH;FMTTYPE=image/jpeg:https://www.pointmeby.com/wp-content/uploads/2017/02/wcmc.jpg
END:VEVENT
BEGIN:VEVENT
DTSTART;TZID=UTC:20180610T080000
DTEND;TZID=UTC:20180610T170000
DTSTAMP:20260422T115209
CREATED:20180418T134827Z
LAST-MODIFIED:20180418T134827Z
UID:2959-1528617600-1528650000@www.pointmeby.com
SUMMARY:WCMC AutoX#5
DESCRIPTION:
URL:https://www.pointmeby.com/event/wcmc-autox5/
LOCATION:Boomers Stadium\, 1999 Springinsguth Rd\, Schaumburg\, IL\, 60193\, United States
CATEGORIES:Autocross
ATTACH;FMTTYPE=image/jpeg:https://www.pointmeby.com/wp-content/uploads/2017/02/wcmc.jpg
END:VEVENT
BEGIN:VEVENT
DTSTART;TZID=UTC:20180610T080000
DTEND;TZID=UTC:20180610T170000
DTSTAMP:20260422T115209
CREATED:20180418T070659Z
LAST-MODIFIED:20180418T070659Z
UID:2860-1528617600-1528650000@www.pointmeby.com
SUMMARY:SCCA Milwaukee AX #4
DESCRIPTION:
URL:https://www.pointmeby.com/event/scca-milwaukee-ax-4/
LOCATION:Miller Park\, 1 Brewers Way\, Milwaukee\, WI\, 53214\, United States
CATEGORIES:Autocross
ATTACH;FMTTYPE=image/jpeg:https://www.pointmeby.com/wp-content/uploads/2017/01/sccatn.jpg
END:VEVENT
BEGIN:VEVENT
DTSTART;TZID=UTC:20180609T080000
DTEND;TZID=UTC:20180609T170000
DTSTAMP:20260422T115209
CREATED:20180418T134832Z
LAST-MODIFIED:20180418T134832Z
UID:2958-1528531200-1528563600@www.pointmeby.com
SUMMARY:WCMC AutoX#4
DESCRIPTION:
URL:https://www.pointmeby.com/event/wcmc-autox4/
LOCATION:Boomers Stadium\, 1999 Springinsguth Rd\, Schaumburg\, IL\, 60193\, United States
CATEGORIES:Autocross
ATTACH;FMTTYPE=image/jpeg:https://www.pointmeby.com/wp-content/uploads/2017/02/wcmc.jpg
END:VEVENT
BEGIN:VEVENT
DTSTART;TZID=UTC:20180602T080000
DTEND;TZID=UTC:20180603T170000
DTSTAMP:20260422T115209
CREATED:20171126T193413Z
LAST-MODIFIED:20171126T193413Z
UID:2602-1527926400-1528045200@www.pointmeby.com
SUMMARY:Windy City BMW Autocross II @ TireRack
DESCRIPTION:
URL:https://www.pointmeby.com/event/windy-city-bmw-autocross-ii-tirerack/
LOCATION:Tire Rack\, 7101 Vorden Pkwy\, South Bend\, IN\, 46628\, United States
CATEGORIES:Autocross
ATTACH;FMTTYPE=image/jpeg:https://www.pointmeby.com/wp-content/uploads/2017/01/wcax.jpg
END:VEVENT
BEGIN:VEVENT
DTSTART;TZID=UTC:20180602T080000
DTEND;TZID=UTC:20180602T170000
DTSTAMP:20260422T115209
CREATED:20180418T083615Z
LAST-MODIFIED:20180418T083615Z
UID:2908-1527926400-1527958800@www.pointmeby.com
SUMMARY:Porsche Club Autox #3
DESCRIPTION:PCA Members: 1\nst Driver: $45\, 2\nnd Driver Sharing car: $45 or $20\nfor family members (Please register as 1st driver)\nNon-PCA Members: 1st or 2nd Driver: $50\nRegistration:\n• Every participant must first set up an account and register at\nwww.clubregistration.net\n• Day of and Onsite-Registering participants must also register and\npay through www.clubregistration.net\n• Pre-registration is highly recommended\n• Each event will be limited to 60 participants to maximize number of\nruns for participants\n• Day of\, including Onsite-Registration add $15 to prices listed above
URL:https://www.pointmeby.com/event/porsche-club-autox-3/
LOCATION:Boomers Stadium\, 1999 Springinsguth Rd\, Schaumburg\, IL\, 60193\, United States
CATEGORIES:Autocross
ATTACH;FMTTYPE=image/jpeg:https://www.pointmeby.com/wp-content/uploads/2017/01/laps.jpg
END:VEVENT
BEGIN:VEVENT
DTSTART;TZID=UTC:20180520T080000
DTEND;TZID=UTC:20180520T170000
DTSTAMP:20260422T115209
CREATED:20180418T070701Z
LAST-MODIFIED:20180418T070701Z
UID:2859-1526803200-1526835600@www.pointmeby.com
SUMMARY:SCCA Milwaukee AX #3
DESCRIPTION:
URL:https://www.pointmeby.com/event/scca-milwaukee-ax-3/
LOCATION:Miller Park\, 1 Brewers Way\, Milwaukee\, WI\, 53214\, United States
CATEGORIES:Autocross
ATTACH;FMTTYPE=image/jpeg:https://www.pointmeby.com/wp-content/uploads/2017/01/sccatn.jpg
END:VEVENT
BEGIN:VEVENT
DTSTART;TZID=UTC:20180519T080000
DTEND;TZID=UTC:20180519T170000
DTSTAMP:20260422T115209
CREATED:20180418T083612Z
LAST-MODIFIED:20180418T083612Z
UID:2907-1526716800-1526749200@www.pointmeby.com
SUMMARY:Porsche Club Autox #2
DESCRIPTION:PCA Members: 1\nst Driver: $45\, 2\nnd Driver Sharing car: $45 or $20\nfor family members (Please register as 1st driver)\nNon-PCA Members: 1st or 2nd Driver: $50\nRegistration:\n• Every participant must first set up an account and register at\nwww.clubregistration.net\n• Day of and Onsite-Registering participants must also register and\npay through www.clubregistration.net\n• Pre-registration is highly recommended\n• Each event will be limited to 60 participants to maximize number of\nruns for participants\n• Day of\, including Onsite-Registration add $15 to prices listed above
URL:https://www.pointmeby.com/event/porsche-club-autox-2/
LOCATION:Boomers Stadium\, 1999 Springinsguth Rd\, Schaumburg\, IL\, 60193\, United States
CATEGORIES:Autocross
ATTACH;FMTTYPE=image/jpeg:https://www.pointmeby.com/wp-content/uploads/2017/01/laps.jpg
END:VEVENT
BEGIN:VEVENT
DTSTART;TZID=UTC:20180519T080000
DTEND;TZID=UTC:20180519T170000
DTSTAMP:20260422T115210
CREATED:20180418T070704Z
LAST-MODIFIED:20180418T070704Z
UID:2858-1526716800-1526749200@www.pointmeby.com
SUMMARY:SCCA Milwaukee AX #2
DESCRIPTION:
URL:https://www.pointmeby.com/event/scca-milwaukee-ax-2/
LOCATION:Miller Park\, 1 Brewers Way\, Milwaukee\, WI\, 53214\, United States
CATEGORIES:Autocross
ATTACH;FMTTYPE=image/jpeg:https://www.pointmeby.com/wp-content/uploads/2017/01/sccatn.jpg
END:VEVENT
BEGIN:VEVENT
DTSTART;TZID=UTC:20180513T080000
DTEND;TZID=UTC:20180513T170000
DTSTAMP:20260422T115210
CREATED:20180418T064054Z
LAST-MODIFIED:20180418T064054Z
UID:2850-1526198400-1526230800@www.pointmeby.com
SUMMARY:SCCA Chicago Autocross #2
DESCRIPTION:
URL:https://www.pointmeby.com/event/scca-chicago-autocross-2/
LOCATION:Route 66 Raceway\, 3200 S. Chicago St\, Joliet\, IL\, 60433\, United States
CATEGORIES:Autocross
ATTACH;FMTTYPE=image/jpeg:https://www.pointmeby.com/wp-content/uploads/2017/01/sccatn.jpg
END:VEVENT
BEGIN:VEVENT
DTSTART;TZID=UTC:20180513T080000
DTEND;TZID=UTC:20180513T170000
DTSTAMP:20260422T115210
CREATED:20171126T193411Z
LAST-MODIFIED:20180418T165819Z
UID:2601-1526198400-1526230800@www.pointmeby.com
SUMMARY:Windy City BMW Autocross I
DESCRIPTION:
URL:https://www.pointmeby.com/event/windy-city-bmw-autocross-2/
LOCATION:Boomers Stadium\, 1999 Springinsguth Rd\, Schaumburg\, IL\, 60193\, United States
CATEGORIES:Autocross
ATTACH;FMTTYPE=image/jpeg:https://www.pointmeby.com/wp-content/uploads/2017/01/wcax.jpg
END:VEVENT
BEGIN:VEVENT
DTSTART;TZID=UTC:20180512T080000
DTEND;TZID=UTC:20180512T170000
DTSTAMP:20260422T115210
CREATED:20180418T134835Z
LAST-MODIFIED:20180418T134835Z
UID:2957-1526112000-1526144400@www.pointmeby.com
SUMMARY:WCMC AutoX#3
DESCRIPTION:
URL:https://www.pointmeby.com/event/wcmc-autox3/
LOCATION:Boomers Stadium\, 1999 Springinsguth Rd\, Schaumburg\, IL\, 60193\, United States
CATEGORIES:Autocross
ATTACH;FMTTYPE=image/jpeg:https://www.pointmeby.com/wp-content/uploads/2017/02/wcmc.jpg
END:VEVENT
BEGIN:VEVENT
DTSTART;TZID=UTC:20180506T080000
DTEND;TZID=UTC:20180506T170000
DTSTAMP:20260422T115210
CREATED:20180418T134839Z
LAST-MODIFIED:20180418T134839Z
UID:2956-1525593600-1525626000@www.pointmeby.com
SUMMARY:WCMC AutoX#2
DESCRIPTION:
URL:https://www.pointmeby.com/event/wcmc-autox2/
LOCATION:Boomers Stadium\, 1999 Springinsguth Rd\, Schaumburg\, IL\, 60193\, United States
CATEGORIES:Autocross
ATTACH;FMTTYPE=image/jpeg:https://www.pointmeby.com/wp-content/uploads/2017/02/wcmc.jpg
END:VEVENT
BEGIN:VEVENT
DTSTART;TZID=UTC:20180429T080000
DTEND;TZID=UTC:20180429T170000
DTSTAMP:20260422T115210
CREATED:20171126T193408Z
LAST-MODIFIED:20180418T165726Z
UID:2600-1524988800-1525021200@www.pointmeby.com
SUMMARY:Windy City BMW Autocross School
DESCRIPTION:
URL:https://www.pointmeby.com/event/windy-city-bmw-autocross-school-2/
LOCATION:Boomers Stadium\, 1999 Springinsguth Rd\, Schaumburg\, IL\, 60193\, United States
CATEGORIES:Autocross
ATTACH;FMTTYPE=image/jpeg:https://www.pointmeby.com/wp-content/uploads/2017/01/wcax.jpg
END:VEVENT
BEGIN:VEVENT
DTSTART;TZID=UTC:20180428T080000
DTEND;TZID=UTC:20180428T170000
DTSTAMP:20260422T115210
CREATED:20180418T134844Z
LAST-MODIFIED:20180418T134844Z
UID:2971-1524902400-1524934800@www.pointmeby.com
SUMMARY:WCMC AutoX#1
DESCRIPTION:
URL:https://www.pointmeby.com/event/wcmc-autox1/
LOCATION:Boomers Stadium\, 1999 Springinsguth Rd\, Schaumburg\, IL\, 60193\, United States
CATEGORIES:Autocross
ATTACH;FMTTYPE=image/jpeg:https://www.pointmeby.com/wp-content/uploads/2017/02/wcmc.jpg
END:VEVENT
BEGIN:VEVENT
DTSTART;TZID=UTC:20180310T080000
DTEND;TZID=UTC:20180310T170000
DTSTAMP:20260422T115210
CREATED:20180114T163657Z
LAST-MODIFIED:20180114T163657Z
UID:2759-1520668800-1520701200@www.pointmeby.com
SUMMARY:Winter Autocross with FVSCC
DESCRIPTION:
URL:https://www.pointmeby.com/event/winter-autocross-fvscc-2/
LOCATION:Road America\, N7390 WI-67\, Plymouth\, WI\, 53073\, United States
CATEGORIES:Autocross
ATTACH;FMTTYPE=image/jpeg:https://www.pointmeby.com/wp-content/uploads/2018/01/winterax.jpg
END:VEVENT
BEGIN:VEVENT
DTSTART;TZID=UTC:20180210T080000
DTEND;TZID=UTC:20180210T170000
DTSTAMP:20260422T115210
CREATED:20180114T163643Z
LAST-MODIFIED:20180114T163643Z
UID:2758-1518249600-1518282000@www.pointmeby.com
SUMMARY:Winter Autocross with FVSCC
DESCRIPTION:
URL:https://www.pointmeby.com/event/winter-autocross-fvscc/
LOCATION:Road America\, N7390 WI-67\, Plymouth\, WI\, 53073\, United States
CATEGORIES:Autocross
ATTACH;FMTTYPE=image/jpeg:https://www.pointmeby.com/wp-content/uploads/2018/01/winterax.jpg
END:VEVENT
BEGIN:VEVENT
DTSTART;TZID=UTC:20171009T080000
DTEND;TZID=UTC:20171009T170000
DTSTAMP:20260422T115210
CREATED:20170309T114739Z
LAST-MODIFIED:20170309T114739Z
UID:2249-1507536000-1507568400@www.pointmeby.com
SUMMARY:SCCA Chicago Autox #9
DESCRIPTION:
URL:https://www.pointmeby.com/event/scca-chicago-autox-9/
LOCATION:Route 66 Raceway\, 3200 S. Chicago St\, Joliet\, IL\, 60433\, United States
CATEGORIES:Autocross
ATTACH;FMTTYPE=image/jpeg:https://www.pointmeby.com/wp-content/uploads/2017/01/sccatn.jpg
END:VEVENT
BEGIN:VEVENT
DTSTART;TZID=UTC:20171008T080000
DTEND;TZID=UTC:20171008T170000
DTSTAMP:20260422T115210
CREATED:20170309T114736Z
LAST-MODIFIED:20170309T114736Z
UID:2248-1507449600-1507482000@www.pointmeby.com
SUMMARY:SCCA Chicago Autox #8
DESCRIPTION:
URL:https://www.pointmeby.com/event/scca-chicago-autox-8/
LOCATION:Route 66 Raceway\, 3200 S. Chicago St\, Joliet\, IL\, 60433\, United States
CATEGORIES:Autocross
ATTACH;FMTTYPE=image/jpeg:https://www.pointmeby.com/wp-content/uploads/2017/01/sccatn.jpg
END:VEVENT
END:VCALENDAR