BEGIN:VCALENDAR
VERSION:2.0
PRODID:-//Point Me By - ECPv6.13.1//NONSGML v1.0//EN
CALSCALE:GREGORIAN
METHOD:PUBLISH
X-ORIGINAL-URL:https://www.pointmeby.com
X-WR-CALDESC:Events for Point Me By
REFRESH-INTERVAL;VALUE=DURATION:PT1H
X-Robots-Tag:noindex
X-PUBLISHED-TTL:PT1H
BEGIN:VTIMEZONE
TZID:UTC
BEGIN:STANDARD
TZOFFSETFROM:+0000
TZOFFSETTO:+0000
TZNAME:UTC
DTSTART:20170101T000000
END:STANDARD
END:VTIMEZONE
BEGIN:VEVENT
DTSTART;TZID=UTC:20171007T080000
DTEND;TZID=UTC:20171007T170000
DTSTAMP:20260422T154638
CREATED:20170117T102324Z
LAST-MODIFIED:20170117T102324Z
UID:1953-1507363200-1507395600@www.pointmeby.com
SUMMARY:Windy City BMW Autocross VI
DESCRIPTION:
URL:https://www.pointmeby.com/event/windy-city-bmw-autocross-vi/
LOCATION:Boomers Stadium\, 1999 Springinsguth Rd\, Schaumburg\, IL\, 60193\, United States
CATEGORIES:Autocross
ATTACH;FMTTYPE=image/jpeg:https://www.pointmeby.com/wp-content/uploads/2017/01/wcax.jpg
END:VEVENT
BEGIN:VEVENT
DTSTART;TZID=UTC:20170924T080000
DTEND;TZID=UTC:20170924T170000
DTSTAMP:20260422T154638
CREATED:20170309T114734Z
LAST-MODIFIED:20170309T114734Z
UID:2247-1506240000-1506272400@www.pointmeby.com
SUMMARY:SCCA Chicago Autox #7
DESCRIPTION:
URL:https://www.pointmeby.com/event/scca-chicago-autox-7/
LOCATION:Route 66 Raceway\, 3200 S. Chicago St\, Joliet\, IL\, 60433\, United States
CATEGORIES:Autocross
ATTACH;FMTTYPE=image/jpeg:https://www.pointmeby.com/wp-content/uploads/2017/01/sccatn.jpg
END:VEVENT
BEGIN:VEVENT
DTSTART;TZID=UTC:20170916T080000
DTEND;TZID=UTC:20170916T170000
DTSTAMP:20260422T154638
CREATED:20170309T101406Z
LAST-MODIFIED:20170309T101406Z
UID:2202-1505548800-1505581200@www.pointmeby.com
SUMMARY:PCA Autocross V
DESCRIPTION:PCA Autocross; $45 member\, $50 non-member.  TireRack !
URL:https://www.pointmeby.com/event/pca-autocross-v/
LOCATION:Tire Rack\, 7101 Vorden Pkwy\, South Bend\, IN\, 46628\, United States
CATEGORIES:Autocross
ATTACH;FMTTYPE=image/jpeg:https://www.pointmeby.com/wp-content/uploads/2017/02/pca.jpg
END:VEVENT
BEGIN:VEVENT
DTSTART;TZID=UTC:20170909T080000
DTEND;TZID=UTC:20170909T170000
DTSTAMP:20260422T154638
CREATED:20170205T155321Z
LAST-MODIFIED:20170205T155321Z
UID:2165-1504944000-1504976400@www.pointmeby.com
SUMMARY:WCMC Autox Event #15
DESCRIPTION:
URL:https://www.pointmeby.com/event/wcmc-autox-event-15/
LOCATION:Boomers Stadium\, 1999 Springinsguth Rd\, Schaumburg\, IL\, 60193\, United States
CATEGORIES:Autocross
ATTACH;FMTTYPE=image/jpeg:https://www.pointmeby.com/wp-content/uploads/2017/02/wcmc.jpg
END:VEVENT
BEGIN:VEVENT
DTSTART;TZID=UTC:20170903T080000
DTEND;TZID=UTC:20170903T170000
DTSTAMP:20260422T154638
CREATED:20170205T155322Z
LAST-MODIFIED:20170205T155322Z
UID:2164-1504425600-1504458000@www.pointmeby.com
SUMMARY:WCMC Autox Event #14
DESCRIPTION:
URL:https://www.pointmeby.com/event/wcmc-autox-event-14/
LOCATION:Boomers Stadium\, 1999 Springinsguth Rd\, Schaumburg\, IL\, 60193\, United States
CATEGORIES:Autocross
ATTACH;FMTTYPE=image/jpeg:https://www.pointmeby.com/wp-content/uploads/2017/02/wcmc.jpg
END:VEVENT
BEGIN:VEVENT
DTSTART;TZID=UTC:20170902T080000
DTEND;TZID=UTC:20170902T170000
DTSTAMP:20260422T154638
CREATED:20170205T155325Z
LAST-MODIFIED:20170205T155325Z
UID:2163-1504339200-1504371600@www.pointmeby.com
SUMMARY:WCMC Autox Event #13
DESCRIPTION:
URL:https://www.pointmeby.com/event/wcmc-autox-event-13/
LOCATION:Boomers Stadium\, 1999 Springinsguth Rd\, Schaumburg\, IL\, 60193\, United States
CATEGORIES:Autocross
ATTACH;FMTTYPE=image/jpeg:https://www.pointmeby.com/wp-content/uploads/2017/02/wcmc.jpg
END:VEVENT
BEGIN:VEVENT
DTSTART;TZID=UTC:20170902T080000
DTEND;TZID=UTC:20170902T170000
DTSTAMP:20260422T154638
CREATED:20170117T102251Z
LAST-MODIFIED:20170117T102251Z
UID:1952-1504339200-1504371600@www.pointmeby.com
SUMMARY:Windy City BMW Autocross V
DESCRIPTION:
URL:https://www.pointmeby.com/event/windy-city-bmw-autocross-v/
LOCATION:Sears Centre\, 5333 Prairie Stone Pkwy\, Hoffman Estates\, IL\, 60192\, United States
CATEGORIES:Autocross
ATTACH;FMTTYPE=image/jpeg:https://www.pointmeby.com/wp-content/uploads/2017/01/wcax.jpg
END:VEVENT
BEGIN:VEVENT
DTSTART;TZID=UTC:20170827T080000
DTEND;TZID=UTC:20170827T170000
DTSTAMP:20260422T154638
CREATED:20170309T114731Z
LAST-MODIFIED:20170309T114731Z
UID:2246-1503820800-1503853200@www.pointmeby.com
SUMMARY:SCCA Chicago Autox #6
DESCRIPTION:
URL:https://www.pointmeby.com/event/scca-chicago-autox-6/
LOCATION:Route 66 Raceway\, 3200 S. Chicago St\, Joliet\, IL\, 60433\, United States
CATEGORIES:Autocross
ATTACH;FMTTYPE=image/jpeg:https://www.pointmeby.com/wp-content/uploads/2017/01/sccatn.jpg
END:VEVENT
BEGIN:VEVENT
DTSTART;TZID=UTC:20170826T080000
DTEND;TZID=UTC:20170826T170000
DTSTAMP:20260422T154638
CREATED:20170309T113520Z
LAST-MODIFIED:20170309T113605Z
UID:2236-1503734400-1503766800@www.pointmeby.com
SUMMARY:MCSCC Milwaukee Mile HPDE/HSAX
DESCRIPTION:The morning will consist of three 20-minute practice sessions\, open to all HPDE entrants and as practice sessions for all High Speed Autocross (HSAX) entrants. There will be three HPDE/AX Practice Groups: 1) Advanced/Comp Drivers  2) Intermediate  3)Beginner* \n*Instructors will be available for beginner group drivers and a Novice Meeting will be held for first time participants. \nThe full afternoon will consist of High Speed Autocross Timed Runs.
URL:https://www.pointmeby.com/event/mcscc-milwaukee-mile-hpdehsax/
LOCATION:Milwaukee Mile\, West Washington Street\, West Allis\, WI\, 53214\, United States
CATEGORIES:Autocross,Track Day HPDE
ATTACH;FMTTYPE=image/jpeg:https://www.pointmeby.com/wp-content/uploads/2017/01/viper.jpg
END:VEVENT
BEGIN:VEVENT
DTSTART;TZID=UTC:20170813T080000
DTEND;TZID=UTC:20170813T170000
DTSTAMP:20260422T154638
CREATED:20170309T101409Z
LAST-MODIFIED:20170309T101409Z
UID:2201-1502611200-1502643600@www.pointmeby.com
SUMMARY:PCA Autocross IV
DESCRIPTION:PCA Autocross; $45 member\, $50 non-member.  Autox on the kart track\, also a Concours event.
URL:https://www.pointmeby.com/event/pca-autocross-iv/
LOCATION:Autobahn Country Club\, 3795 Centerpoint Way\, Joliet\, IL\, 60436\, United States
CATEGORIES:Autocross,Car Show
ATTACH;FMTTYPE=image/jpeg:https://www.pointmeby.com/wp-content/uploads/2017/02/pca.jpg
END:VEVENT
BEGIN:VEVENT
DTSTART;TZID=UTC:20170813T080000
DTEND;TZID=UTC:20170813T170000
DTSTAMP:20260422T154638
CREATED:20170205T155327Z
LAST-MODIFIED:20170205T155327Z
UID:2162-1502611200-1502643600@www.pointmeby.com
SUMMARY:WCMC Autox Event #12
DESCRIPTION:
URL:https://www.pointmeby.com/event/wcmc-autox-event-12/
LOCATION:Boomers Stadium\, 1999 Springinsguth Rd\, Schaumburg\, IL\, 60193\, United States
CATEGORIES:Autocross
ATTACH;FMTTYPE=image/jpeg:https://www.pointmeby.com/wp-content/uploads/2017/02/wcmc.jpg
END:VEVENT
BEGIN:VEVENT
DTSTART;TZID=UTC:20170813T080000
DTEND;TZID=UTC:20170813T170000
DTSTAMP:20260422T154638
CREATED:20170117T102340Z
LAST-MODIFIED:20170117T102340Z
UID:1951-1502611200-1502643600@www.pointmeby.com
SUMMARY:Windy City BMW Autocross IV
DESCRIPTION:
URL:https://www.pointmeby.com/event/windy-city-bmw-autocross-iv/
LOCATION:Sears Centre\, 5333 Prairie Stone Pkwy\, Hoffman Estates\, IL\, 60192\, United States
CATEGORIES:Autocross
ATTACH;FMTTYPE=image/jpeg:https://www.pointmeby.com/wp-content/uploads/2017/01/wcax.jpg
END:VEVENT
BEGIN:VEVENT
DTSTART;TZID=UTC:20170730T080000
DTEND;TZID=UTC:20170730T170000
DTSTAMP:20260422T154638
CREATED:20170309T101412Z
LAST-MODIFIED:20170309T101412Z
UID:2200-1501401600-1501434000@www.pointmeby.com
SUMMARY:PCA Autocross III
DESCRIPTION:PCA Autocross; $45 member\, $50 non-member.
URL:https://www.pointmeby.com/event/pca-autocross-iii/
LOCATION:Boomers Stadium\, 1999 Springinsguth Rd\, Schaumburg\, IL\, 60193\, United States
CATEGORIES:Autocross
ATTACH;FMTTYPE=image/jpeg:https://www.pointmeby.com/wp-content/uploads/2017/02/pca.jpg
END:VEVENT
BEGIN:VEVENT
DTSTART;TZID=UTC:20170723T080000
DTEND;TZID=UTC:20170723T170000
DTSTAMP:20260422T154638
CREATED:20170309T114728Z
LAST-MODIFIED:20170309T114728Z
UID:2245-1500796800-1500829200@www.pointmeby.com
SUMMARY:SCCA Chicago Autox #5
DESCRIPTION:
URL:https://www.pointmeby.com/event/scca-chicago-autox-5/
LOCATION:Route 66 Raceway\, 3200 S. Chicago St\, Joliet\, IL\, 60433\, United States
CATEGORIES:Autocross
ATTACH;FMTTYPE=image/jpeg:https://www.pointmeby.com/wp-content/uploads/2017/01/sccatn.jpg
END:VEVENT
BEGIN:VEVENT
DTSTART;TZID=UTC:20170723T080000
DTEND;TZID=UTC:20170723T170000
DTSTAMP:20260422T154638
CREATED:20170205T155111Z
LAST-MODIFIED:20170205T155111Z
UID:2159-1500796800-1500829200@www.pointmeby.com
SUMMARY:WCMC Autox Event #11
DESCRIPTION:
URL:https://www.pointmeby.com/event/wcmc-autox-event-11/
LOCATION:Lake County Fairgrounds\, 1060 East Peterson Road\, Grayslake\, IL\, 60030\, United States
CATEGORIES:Autocross
ATTACH;FMTTYPE=image/jpeg:https://www.pointmeby.com/wp-content/uploads/2017/02/wcmc.jpg
END:VEVENT
BEGIN:VEVENT
DTSTART;TZID=UTC:20170722T080000
DTEND;TZID=UTC:20170722T170000
DTSTAMP:20260422T154638
CREATED:20170205T155122Z
LAST-MODIFIED:20170205T155122Z
UID:2158-1500710400-1500742800@www.pointmeby.com
SUMMARY:WCMC Autox Event #10
DESCRIPTION:
URL:https://www.pointmeby.com/event/wcmc-autox-event-10/
LOCATION:Lake County Fairgrounds\, 1060 East Peterson Road\, Grayslake\, IL\, 60030\, United States
CATEGORIES:Autocross
ATTACH;FMTTYPE=image/jpeg:https://www.pointmeby.com/wp-content/uploads/2017/02/wcmc.jpg
END:VEVENT
BEGIN:VEVENT
DTSTART;TZID=UTC:20170716T080000
DTEND;TZID=UTC:20170716T170000
DTSTAMP:20260422T154638
CREATED:20170205T154935Z
LAST-MODIFIED:20170205T154935Z
UID:2153-1500192000-1500224400@www.pointmeby.com
SUMMARY:WCMC Autox Event #9
DESCRIPTION:
URL:https://www.pointmeby.com/event/wcmc-autox-event-9/
LOCATION:Boomers Stadium\, 1999 Springinsguth Rd\, Schaumburg\, IL\, 60193\, United States
CATEGORIES:Autocross
ATTACH;FMTTYPE=image/jpeg:https://www.pointmeby.com/wp-content/uploads/2017/02/wcmc.jpg
END:VEVENT
BEGIN:VEVENT
DTSTART;TZID=UTC:20170715T080000
DTEND;TZID=UTC:20170715T170000
DTSTAMP:20260422T154638
CREATED:20170205T154943Z
LAST-MODIFIED:20170205T154943Z
UID:2152-1500105600-1500138000@www.pointmeby.com
SUMMARY:WCMC Autox Event #8
DESCRIPTION:
URL:https://www.pointmeby.com/event/wcmc-autox-event-8/
LOCATION:Boomers Stadium\, 1999 Springinsguth Rd\, Schaumburg\, IL\, 60193\, United States
CATEGORIES:Autocross
ATTACH;FMTTYPE=image/jpeg:https://www.pointmeby.com/wp-content/uploads/2017/02/wcmc.jpg
END:VEVENT
BEGIN:VEVENT
DTSTART;TZID=UTC:20170709T080000
DTEND;TZID=UTC:20170709T170000
DTSTAMP:20260422T154638
CREATED:20170205T154951Z
LAST-MODIFIED:20170205T154951Z
UID:2151-1499587200-1499619600@www.pointmeby.com
SUMMARY:WCMC Autox Event #7
DESCRIPTION:
URL:https://www.pointmeby.com/event/wcmc-autox-event-7/
LOCATION:Boomers Stadium\, 1999 Springinsguth Rd\, Schaumburg\, IL\, 60193\, United States
CATEGORIES:Autocross
ATTACH;FMTTYPE=image/jpeg:https://www.pointmeby.com/wp-content/uploads/2017/02/wcmc.jpg
END:VEVENT
BEGIN:VEVENT
DTSTART;TZID=UTC:20170708T080000
DTEND;TZID=UTC:20170708T170000
DTSTAMP:20260422T154638
CREATED:20170205T155000Z
LAST-MODIFIED:20170205T155000Z
UID:2150-1499500800-1499533200@www.pointmeby.com
SUMMARY:WCMC Autox Event #6
DESCRIPTION:
URL:https://www.pointmeby.com/event/wcmc-autox-event-6/
LOCATION:Boomers Stadium\, 1999 Springinsguth Rd\, Schaumburg\, IL\, 60193\, United States
CATEGORIES:Autocross
ATTACH;FMTTYPE=image/jpeg:https://www.pointmeby.com/wp-content/uploads/2017/02/wcmc.jpg
END:VEVENT
BEGIN:VEVENT
DTSTART;TZID=UTC:20170625T080000
DTEND;TZID=UTC:20170625T170000
DTSTAMP:20260422T154638
CREATED:20170205T154709Z
LAST-MODIFIED:20170205T154736Z
UID:2147-1498377600-1498410000@www.pointmeby.com
SUMMARY:WCMC Autox Event #5
DESCRIPTION:
URL:https://www.pointmeby.com/event/wcmc-autox-event-5/
LOCATION:Tire Rack\, 7101 Vorden Pkwy\, South Bend\, IN\, 46628\, United States
CATEGORIES:Autocross
ATTACH;FMTTYPE=image/jpeg:https://www.pointmeby.com/wp-content/uploads/2017/02/wcmc.jpg
END:VEVENT
BEGIN:VEVENT
DTSTART;TZID=UTC:20170624T080000
DTEND;TZID=UTC:20170624T170000
DTSTAMP:20260422T154638
CREATED:20170205T154712Z
LAST-MODIFIED:20170205T154730Z
UID:2146-1498291200-1498323600@www.pointmeby.com
SUMMARY:WCMC Autox Event #4
DESCRIPTION:
URL:https://www.pointmeby.com/event/wcmc-autox-event-4/
LOCATION:Tire Rack\, 7101 Vorden Pkwy\, South Bend\, IN\, 46628\, United States
CATEGORIES:Autocross
ATTACH;FMTTYPE=image/jpeg:https://www.pointmeby.com/wp-content/uploads/2017/02/wcmc.jpg
END:VEVENT
BEGIN:VEVENT
DTSTART;TZID=UTC:20170617T080000
DTEND;TZID=UTC:20170617T170000
DTSTAMP:20260422T154638
CREATED:20170205T154547Z
LAST-MODIFIED:20170205T154547Z
UID:2140-1497686400-1497718800@www.pointmeby.com
SUMMARY:WCMC Autox Event #3
DESCRIPTION:
URL:https://www.pointmeby.com/event/wcmc-autox-event-3/
LOCATION:Boomers Stadium\, 1999 Springinsguth Rd\, Schaumburg\, IL\, 60193\, United States
CATEGORIES:Autocross
ATTACH;FMTTYPE=image/jpeg:https://www.pointmeby.com/wp-content/uploads/2017/02/wcmc.jpg
END:VEVENT
BEGIN:VEVENT
DTSTART;TZID=UTC:20170611T080000
DTEND;TZID=UTC:20170611T170000
DTSTAMP:20260422T154638
CREATED:20170309T114726Z
LAST-MODIFIED:20170309T114726Z
UID:2244-1497168000-1497200400@www.pointmeby.com
SUMMARY:SCCA Chicago Autox #4
DESCRIPTION:
URL:https://www.pointmeby.com/event/scca-chicago-autox-4/
LOCATION:Route 66 Raceway\, 3200 S. Chicago St\, Joliet\, IL\, 60433\, United States
CATEGORIES:Autocross
ATTACH;FMTTYPE=image/jpeg:https://www.pointmeby.com/wp-content/uploads/2017/01/sccatn.jpg
END:VEVENT
BEGIN:VEVENT
DTSTART;TZID=UTC:20170603T080000
DTEND;TZID=UTC:20170604T170000
DTSTAMP:20260422T154638
CREATED:20170117T102401Z
LAST-MODIFIED:20170117T102401Z
UID:1950-1496476800-1496595600@www.pointmeby.com
SUMMARY:Windy City BMW Autocross II & III at Tire Rack
DESCRIPTION:
URL:https://www.pointmeby.com/event/windy-city-bmw-autocross-ii-iii-tire-rack/
LOCATION:Tire Rack\, 7101 Vorden Pkwy\, South Bend\, IN\, 46628\, United States
CATEGORIES:Autocross
ATTACH;FMTTYPE=image/jpeg:https://www.pointmeby.com/wp-content/uploads/2017/01/wcax.jpg
END:VEVENT
BEGIN:VEVENT
DTSTART;TZID=UTC:20170603T080000
DTEND;TZID=UTC:20170603T170000
DTSTAMP:20260422T154638
CREATED:20170309T101414Z
LAST-MODIFIED:20170309T101414Z
UID:2199-1496476800-1496509200@www.pointmeby.com
SUMMARY:PCA Autocross II
DESCRIPTION:PCA Autocross; $45 member\, $50 non-member.
URL:https://www.pointmeby.com/event/pca-autocross-ii/
LOCATION:Boomers Stadium\, 1999 Springinsguth Rd\, Schaumburg\, IL\, 60193\, United States
CATEGORIES:Autocross
ATTACH;FMTTYPE=image/jpeg:https://www.pointmeby.com/wp-content/uploads/2017/02/pca.jpg
END:VEVENT
BEGIN:VEVENT
DTSTART;TZID=UTC:20170528T080000
DTEND;TZID=UTC:20170528T170000
DTSTAMP:20260422T154638
CREATED:20170309T114721Z
LAST-MODIFIED:20170309T114721Z
UID:2243-1495958400-1495990800@www.pointmeby.com
SUMMARY:SCCA Chicago Autox #3
DESCRIPTION:
URL:https://www.pointmeby.com/event/scca-chicago-autox-3/
LOCATION:Route 66 Raceway\, 3200 S. Chicago St\, Joliet\, IL\, 60433\, United States
CATEGORIES:Autocross
ATTACH;FMTTYPE=image/jpeg:https://www.pointmeby.com/wp-content/uploads/2017/01/sccatn.jpg
END:VEVENT
BEGIN:VEVENT
DTSTART;TZID=UTC:20170521T080000
DTEND;TZID=UTC:20170521T170000
DTSTAMP:20260422T154638
CREATED:20170205T154535Z
LAST-MODIFIED:20170205T154535Z
UID:2139-1495353600-1495386000@www.pointmeby.com
SUMMARY:WCMC Autox Event #2
DESCRIPTION:
URL:https://www.pointmeby.com/event/wcmc-autox-event-2/
LOCATION:Boomers Stadium\, 1999 Springinsguth Rd\, Schaumburg\, IL\, 60193\, United States
CATEGORIES:Autocross
ATTACH;FMTTYPE=image/jpeg:https://www.pointmeby.com/wp-content/uploads/2017/02/wcmc.jpg
END:VEVENT
BEGIN:VEVENT
DTSTART;TZID=UTC:20170520T080000
DTEND;TZID=UTC:20170520T170000
DTSTAMP:20260422T154638
CREATED:20170205T154522Z
LAST-MODIFIED:20170205T154522Z
UID:2138-1495267200-1495299600@www.pointmeby.com
SUMMARY:WCMC Autox Special Event
DESCRIPTION:
URL:https://www.pointmeby.com/event/wcmc-autox-special-event/
LOCATION:Boomers Stadium\, 1999 Springinsguth Rd\, Schaumburg\, IL\, 60193\, United States
CATEGORIES:Autocross
ATTACH;FMTTYPE=image/jpeg:https://www.pointmeby.com/wp-content/uploads/2017/02/wcmc.jpg
END:VEVENT
BEGIN:VEVENT
DTSTART;TZID=UTC:20170514T080000
DTEND;TZID=UTC:20170514T170000
DTSTAMP:20260422T154638
CREATED:20170309T114719Z
LAST-MODIFIED:20170309T114719Z
UID:2242-1494748800-1494781200@www.pointmeby.com
SUMMARY:SCCA Chicago Autox #2
DESCRIPTION:
URL:https://www.pointmeby.com/event/scca-chicago-autox-2/
LOCATION:Route 66 Raceway\, 3200 S. Chicago St\, Joliet\, IL\, 60433\, United States
CATEGORIES:Autocross
ATTACH;FMTTYPE=image/jpeg:https://www.pointmeby.com/wp-content/uploads/2017/01/sccatn.jpg
END:VEVENT
END:VCALENDAR