BEGIN:VCALENDAR
VERSION:2.0
PRODID:-//Point Me By - ECPv6.13.1//NONSGML v1.0//EN
CALSCALE:GREGORIAN
METHOD:PUBLISH
X-WR-CALNAME:Point Me By
X-ORIGINAL-URL:https://www.pointmeby.com
X-WR-CALDESC:Events for Point Me By
REFRESH-INTERVAL;VALUE=DURATION:PT1H
X-Robots-Tag:noindex
X-PUBLISHED-TTL:PT1H
BEGIN:VTIMEZONE
TZID:UTC
BEGIN:STANDARD
TZOFFSETFROM:+0000
TZOFFSETTO:+0000
TZNAME:UTC
DTSTART:20180101T000000
END:STANDARD
END:VTIMEZONE
BEGIN:VEVENT
DTSTART;TZID=UTC:20180905T080000
DTEND;TZID=UTC:20180905T170000
DTSTAMP:20260422T113819
CREATED:20180418T142206Z
LAST-MODIFIED:20180418T142206Z
UID:2997-1536134400-1536166800@www.pointmeby.com
SUMMARY:GingerMan Raceway Evening Test N Tune
DESCRIPTION:Space is limited\, pre-registration is mandatory.\nall novice drivers must have an instructor or have 3 previous track days. \nRegistration is $105/driver. \nDrivers meeting starts at 5:10pm  track hot at 5:30pm\nClosed wheel drivers welcome.\nTwo or three run groups alternating 20 minute sessions.\nEach run group is scheduled for at least three sessions.\nCamping available at the GingerMan.  $10 per night\, per person.\n30amp electric hook-up available.\nThere is a $10 admission fee for non-drivers.
URL:https://www.pointmeby.com/event/gingerman-raceway-evening-test-n-tune-2/
LOCATION:GingerMan Raceway\, 61414 Co Rd 388\, South Haven\, MI\, 49090\, United States
CATEGORIES:Track Day HPDE
ATTACH;FMTTYPE=image/jpeg:https://www.pointmeby.com/wp-content/uploads/2017/01/gman.jpg
END:VEVENT
BEGIN:VEVENT
DTSTART;TZID=UTC:20180902T080000
DTEND;TZID=UTC:20180902T170000
DTSTAMP:20260422T113819
CREATED:20180418T134756Z
LAST-MODIFIED:20180418T134756Z
UID:2970-1535875200-1535907600@www.pointmeby.com
SUMMARY:WCMC AutoX#15
DESCRIPTION:
URL:https://www.pointmeby.com/event/wcmc-autox15/
LOCATION:Boomers Stadium\, 1999 Springinsguth Rd\, Schaumburg\, IL\, 60193\, United States
CATEGORIES:Autocross
ATTACH;FMTTYPE=image/jpeg:https://www.pointmeby.com/wp-content/uploads/2017/02/wcmc.jpg
END:VEVENT
BEGIN:VEVENT
DTSTART;TZID=UTC:20180901T080000
DTEND;TZID=UTC:20180902T170000
DTSTAMP:20260422T113819
CREATED:20180418T110304Z
LAST-MODIFIED:20180418T110304Z
UID:2935-1535788800-1535907600@www.pointmeby.com
SUMMARY:USAIR Drift Day CFR JAM
DESCRIPTION:SCHEDULE \n07:00AM – Gates Open // Roll-in\n08:00AM – Start tech inspection\n09:15AM – Driver’s Meeting\n09:30AM – Hot Track (Run Groups)\n12:30PM – Break for Lunch\n01:30PM – Hot Track (No Run Groups + Ride Alongs)\n05:00PM – Cold Track – End of Day
URL:https://www.pointmeby.com/event/usair-drift-day-cfr-jam/
LOCATION:US Air Motorsports\, W5901 County Road BE\, Shawano\, WI\, 54166\, United States
CATEGORIES:Drift Day
ATTACH;FMTTYPE=image/jpeg:https://www.pointmeby.com/wp-content/uploads/2017/01/clubfr.jpg
END:VEVENT
BEGIN:VEVENT
DTSTART;TZID=UTC:20180901T080000
DTEND;TZID=UTC:20180902T170000
DTSTAMP:20260422T113819
CREATED:20180418T085213Z
LAST-MODIFIED:20180418T085213Z
UID:2928-1535788800-1535907600@www.pointmeby.com
SUMMARY:Mi Drift
DESCRIPTION:MiDrift – Gingerman Raceway\n61414 Co Rd 388\, South Haven\, MI 49090 \nSpectators:\nOne day – $20\nTwo day + Camping – $35\nKids 12 & Under are Free \nFriday Night\n7:00 pm – Gates open/Load in (Drivers\, Staff and Crew ONLY)\n09:00 pm – Tech ends Driver and Crew Camping\nSaturday:\n07:00 am – Tech opens\n08:30 am – Drivers Meeting\n09:00 am – Track goes hot – Spectator Gates Open\n12:00 pm – Lunch Break\n01:00 pm – Track goes hot\n05:00 pm – Track Goes Cold/Clean up\n06:00 pm – Group Sweep/Clean up Track\n08:00 pm – Bonfire/Camping\nSunday:\n07:00 am – Tech opens\n08:30 am – Drivers Meeting (Recap of Saturdays performance/Adjustments)\n09:00 am – Track goes hot\n12:00 pm – Lunch Break (Mandatory No Engines)\n01:00 pm – Track goes hot\n05:00 pm – Track Goes Cold/Clean up\n06:00 pm – Group Sweep/Clean up Track\n08:00 pm – Bonfire/Camping\nMonday:\n07:00 am — Wake everyone up – Clean up and clear out. \nDriver Registration —> https://tinyurl.com/y8luxmnf \nPlease read the rule book before registering. Refunds will not be given!\nRule Book —> https://tinyurl.com/y9d686ja\nPlease contact Mi Drift with any questions before registering. All sales are final.
URL:https://www.pointmeby.com/event/mi-drift/
LOCATION:GingerMan Raceway\, 61414 Co Rd 388\, South Haven\, MI\, 49090\, United States
CATEGORIES:Drift Day
ATTACH;FMTTYPE=image/jpeg:https://www.pointmeby.com/wp-content/uploads/2017/01/midrift.jpg
END:VEVENT
BEGIN:VEVENT
DTSTART;TZID=UTC:20180901T080000
DTEND;TZID=UTC:20180902T170000
DTSTAMP:20260422T113819
CREATED:20171126T194457Z
LAST-MODIFIED:20171126T194457Z
UID:2625-1535788800-1535907600@www.pointmeby.com
SUMMARY:3 Balls Racing - Grattan Raceway
DESCRIPTION:
URL:https://www.pointmeby.com/event/3-balls-racing-grattan-raceway-3/
LOCATION:Grattan Raceway\, 7201 Lessiter Rd NE\, Belding\, MI\, 48809\, United States
CATEGORIES:Track Day HPDE
ATTACH;FMTTYPE=image/jpeg:https://www.pointmeby.com/wp-content/uploads/2017/11/930093154_img_9856.jpg
END:VEVENT
BEGIN:VEVENT
DTSTART;TZID=UTC:20180901T080000
DTEND;TZID=UTC:20180901T170000
DTSTAMP:20260422T113819
CREATED:20180418T134758Z
LAST-MODIFIED:20180418T134758Z
UID:2969-1535788800-1535821200@www.pointmeby.com
SUMMARY:WCMC AutoX#14
DESCRIPTION:
URL:https://www.pointmeby.com/event/wcmc-autox14/
LOCATION:Boomers Stadium\, 1999 Springinsguth Rd\, Schaumburg\, IL\, 60193\, United States
CATEGORIES:Autocross
ATTACH;FMTTYPE=image/jpeg:https://www.pointmeby.com/wp-content/uploads/2017/02/wcmc.jpg
END:VEVENT
BEGIN:VEVENT
DTSTART;TZID=UTC:20180826T080000
DTEND;TZID=UTC:20180827T170000
DTSTAMP:20260422T113819
CREATED:20180418T143055Z
LAST-MODIFIED:20180418T143055Z
UID:3006-1535270400-1535389200@www.pointmeby.com
SUMMARY:Viper Club: Road America
DESCRIPTION:
URL:https://www.pointmeby.com/event/viper-club-road-america/
LOCATION:Road America\, N7390 WI-67\, Plymouth\, WI\, 53073\, United States
CATEGORIES:Track Day HPDE
ATTACH;FMTTYPE=image/jpeg:https://www.pointmeby.com/wp-content/uploads/2017/01/viper.jpg
END:VEVENT
BEGIN:VEVENT
DTSTART;TZID=UTC:20180826T080000
DTEND;TZID=UTC:20180827T170000
DTSTAMP:20260422T113819
CREATED:20171126T190357Z
LAST-MODIFIED:20171126T190357Z
UID:2580-1535270400-1535389200@www.pointmeby.com
SUMMARY:LAPS Inc Road America
DESCRIPTION:
URL:https://www.pointmeby.com/event/laps-inc-road-america-2/
LOCATION:Road America\, N7390 WI-67\, Plymouth\, WI\, 53073\, United States
CATEGORIES:Track Day HPDE
ATTACH;FMTTYPE=image/jpeg:https://www.pointmeby.com/wp-content/uploads/2017/01/laps.jpg
END:VEVENT
BEGIN:VEVENT
DTSTART;TZID=UTC:20180826T080000
DTEND;TZID=UTC:20180826T170000
DTSTAMP:20260422T113819
CREATED:20180418T084716Z
LAST-MODIFIED:20180418T084716Z
UID:2917-1535270400-1535302800@www.pointmeby.com
SUMMARY:Rallycross #4
DESCRIPTION:
URL:https://www.pointmeby.com/event/rallycross-4/
LOCATION:Byron Motosports Park\, 2525 E Ash Rd\, Byron\, IL\, 61010\, United States
CATEGORIES:Rallycross
ATTACH;FMTTYPE=image/jpeg:https://www.pointmeby.com/wp-content/uploads/2017/02/rally.jpg
END:VEVENT
BEGIN:VEVENT
DTSTART;TZID=UTC:20180825T080000
DTEND;TZID=UTC:20180826T170000
DTSTAMP:20260422T113819
CREATED:20180114T071927Z
LAST-MODIFIED:20180114T071927Z
UID:2676-1535184000-1535302800@www.pointmeby.com
SUMMARY:NW Shelby Club: Blackhawk Farms
DESCRIPTION:
URL:https://www.pointmeby.com/event/nw-shelby-club-blackhawk-farms/
LOCATION:Blackhawk Farms\, 15538 Prairie Rd\, South Beloit\, IL\, 61080\, United States
CATEGORIES:Track Day HPDE
ATTACH;FMTTYPE=image/jpeg:https://www.pointmeby.com/wp-content/uploads/2017/01/shelby.jpg
END:VEVENT
BEGIN:VEVENT
DTSTART;TZID=UTC:20180825T080000
DTEND;TZID=UTC:20180825T170000
DTSTAMP:20260422T113819
CREATED:20180418T083620Z
LAST-MODIFIED:20180418T083620Z
UID:2910-1535184000-1535216400@www.pointmeby.com
SUMMARY:Porsche Club Autox #5
DESCRIPTION:PCA Members: 1\nst Driver: $45\, 2\nnd Driver Sharing car: $45 or $20\nfor family members (Please register as 1st driver)\nNon-PCA Members: 1st or 2nd Driver: $50\nRegistration:\n• Every participant must first set up an account and register at\nwww.clubregistration.net\n• Day of and Onsite-Registering participants must also register and\npay through www.clubregistration.net\n• Pre-registration is highly recommended\n• Each event will be limited to 60 participants to maximize number of\nruns for participants\n• Day of\, including Onsite-Registration add $15 to prices listed above
URL:https://www.pointmeby.com/event/porsche-club-autox-5/
LOCATION:Boomers Stadium\, 1999 Springinsguth Rd\, Schaumburg\, IL\, 60193\, United States
CATEGORIES:Autocross
ATTACH;FMTTYPE=image/jpeg:https://www.pointmeby.com/wp-content/uploads/2017/01/laps.jpg
END:VEVENT
BEGIN:VEVENT
DTSTART;TZID=UTC:20180824T080000
DTEND;TZID=UTC:20180826T170000
DTSTAMP:20260422T113819
CREATED:20180114T082221Z
LAST-MODIFIED:20180114T082221Z
UID:2730-1535097600-1535302800@www.pointmeby.com
SUMMARY:GRIDLIFE Festival Round 4: Road Atlanta
DESCRIPTION:
URL:https://www.pointmeby.com/event/gridlife-festival-round-4-road-atlanta/
LOCATION:Road Atlanta\, 5300 Winder Hwy\, Braselton\, GA\, 30517\, United States
CATEGORIES:Track Day HPDE
ATTACH;FMTTYPE=image/jpeg:https://www.pointmeby.com/wp-content/uploads/2018/01/GRIDLIFE-2018-South-Square-small.jpg
END:VEVENT
BEGIN:VEVENT
DTSTART;TZID=UTC:20180823T080000
DTEND;TZID=UTC:20180823T170000
DTSTAMP:20260422T113819
CREATED:20180418T071956Z
LAST-MODIFIED:20180418T071956Z
UID:2878-1535011200-1535043600@www.pointmeby.com
SUMMARY:SCCA Track Night in America: Blackhawk Farms
DESCRIPTION:EVENT SCHEDULE \n3:00PM- Gates Open \n3:30PM- Worker Meeting (includes Run/Work participants) \n3:45PM – MANDATORY KONI NOVICE MEETING (Novice Paddock) \n4:00PM – KONI Novice Group: Paced Laps\, MANDATORY ADVANCED GROUP and INTERMEDIATE GROUP BRIEFING \n4:20PM – Advanced Group: Session 1 \n4:25PM – KONI Novice Group: Briefing 1 (Novice Paddock) \n4:40PM – Intermediate Group: Session 1 \n5:00PM – KONI Novice Group: Session 1 \n5:20PM – Advanced Group: Session 2 \n5:25PM – KONI Novice Group: Briefing 2 \n5:40PM – Intermediate Group: Session 2 \n6:00PM – Track Tour Laps (Open to All) \n6:20PM – KONI Novice Group: Session 2 \n6:40PM – Advanced Group: Session 3 \n6:45PM – KONI Novice Group: Briefing 3 \n7:00PM – Intermediate Group: Session 3 \n7:20PM – KONI Novice Group: Session 3 \n7:40PM – Track Close \n9:00PM – Gates Close
URL:https://www.pointmeby.com/event/scca-track-night-in-america-blackhawk-farms/
LOCATION:Blackhawk Farms\, 15538 Prairie Rd\, South Beloit\, IL\, 61080\, United States
CATEGORIES:Track Day HPDE
ATTACH;FMTTYPE=image/jpeg:https://www.pointmeby.com/wp-content/uploads/2017/01/sccatn.jpg
END:VEVENT
BEGIN:VEVENT
DTSTART;TZID=UTC:20180822T080000
DTEND;TZID=UTC:20180822T170000
DTSTAMP:20260422T113819
CREATED:20180418T071942Z
LAST-MODIFIED:20180418T071942Z
UID:2882-1534924800-1534957200@www.pointmeby.com
SUMMARY:SCCA Track Night in America: GingerMan Raceway
DESCRIPTION:EVENT SCHEDULE \n3:00PM- Gates Open \n3:30PM- Worker Meeting (includes Run/Work participants) \n3:45PM – MANDATORY KONI NOVICE MEETING (Novice Paddock) \n4:00PM – KONI Novice Group: Paced Laps\, MANDATORY ADVANCED GROUP and INTERMEDIATE GROUP BRIEFING \n4:20PM – Advanced Group: Session 1 \n4:25PM – KONI Novice Group: Briefing 1 (Novice Paddock) \n4:40PM – Intermediate Group: Session 1 \n5:00PM – KONI Novice Group: Session 1 \n5:20PM – Advanced Group: Session 2 \n5:25PM – KONI Novice Group: Briefing 2 \n5:40PM – Intermediate Group: Session 2 \n6:00PM – Track Tour Laps (Open to All) \n6:20PM – KONI Novice Group: Session 2 \n6:40PM – Advanced Group: Session 3 \n6:45PM – KONI Novice Group: Briefing 3 \n7:00PM – Intermediate Group: Session 3 \n7:20PM – KONI Novice Group: Session 3 \n7:40PM – Track Close \n9:00PM – Gates Close
URL:https://www.pointmeby.com/event/scca-track-night-in-america-gingerman-raceway/
LOCATION:GingerMan Raceway\, 61414 Co Rd 388\, South Haven\, MI\, 49090\, United States
CATEGORIES:Track Day HPDE
ATTACH;FMTTYPE=image/jpeg:https://www.pointmeby.com/wp-content/uploads/2017/01/sccatn.jpg
END:VEVENT
BEGIN:VEVENT
DTSTART;TZID=UTC:20180820T080000
DTEND;TZID=UTC:20180820T170000
DTSTAMP:20260422T113820
CREATED:20180114T073543Z
LAST-MODIFIED:20180114T073543Z
UID:2697-1534752000-1534784400@www.pointmeby.com
SUMMARY:CGI @ Gingerman Raceway
DESCRIPTION:
URL:https://www.pointmeby.com/event/cgi-gingerman-raceway-4/
LOCATION:GingerMan Raceway\, 61414 Co Rd 388\, South Haven\, MI\, 49090\, United States
CATEGORIES:Track Day HPDE
ATTACH;FMTTYPE=image/jpeg:https://www.pointmeby.com/wp-content/uploads/2017/01/cgi.jpg
END:VEVENT
BEGIN:VEVENT
DTSTART;TZID=UTC:20180819T080000
DTEND;TZID=UTC:20180819T170000
DTSTAMP:20260422T113820
CREATED:20180420T134816Z
LAST-MODIFIED:20180420T134816Z
UID:3044-1534665600-1534698000@www.pointmeby.com
SUMMARY:Drift ChiTown @ GLD
DESCRIPTION:skid pad / short course drift event. \nDrift Events are scheduled : April 22\,    May  20\,  June 10\,   July 15\,  Aug 19\,   Sept 16.\nUsual pricing is  WEEKDAYS: $15 for spectators $ $35. for racers\nWEEKENDS:   $20 for spectators  $45. for Racers.    Kids 10-15 half price  & Kids 9 and under Free.
URL:https://www.pointmeby.com/event/drift-chitown-gld-5/
LOCATION:Great Lakes Dragaway\, 18411 1st St\, Union Grove\, WI\, 53182\, United States
CATEGORIES:Drift Day
ATTACH;FMTTYPE=image/jpeg:https://www.pointmeby.com/wp-content/uploads/2017/01/clubfr.jpg
END:VEVENT
BEGIN:VEVENT
DTSTART;TZID=UTC:20180819T080000
DTEND;TZID=UTC:20180819T170000
DTSTAMP:20260422T113820
CREATED:20180418T170129Z
LAST-MODIFIED:20180418T170129Z
UID:3037-1534665600-1534698000@www.pointmeby.com
SUMMARY:Windy City BMW @ Autobahn Autocross
DESCRIPTION:Attention Autocrossers!\nExtra 2018 Event – August 19th\n   The club has been presented an exciting opportunity to try out a new venue for autocross this year\, Autobahn Country Club. This event will be an exhibition of sorts and is set for Sunday\, August 19th.\n   Finer details are currently being fleshed out\, but I can say that the intent for this exhibition is to be a fun\, casual event that will operate similarly to a normal autocross and will be priced the same as well for the low\, low price of $40 for members. This event will not count towards regular season points\, but will count as an extra entry for the Yokohama Tire raffle (you still need to attend three regular season events to qualify).  In addition\, there will most likely be prizes in lieu of event trophies\, and of course another opportunity to indulge in delicious cookies!\n   We hope you all can make it to this new venue and check it out with us. More details to come soon!\n   Registration will be through the Autocross System – registration will open on June 1st.
URL:https://www.pointmeby.com/event/windy-city-bmw-autobahn-autocross/
LOCATION:Autobahn Country Club\, 3795 Centerpoint Way\, Joliet\, IL\, 60436\, United States
CATEGORIES:Autocross
ATTACH;FMTTYPE=image/jpeg:https://www.pointmeby.com/wp-content/uploads/2017/01/wcax.jpg
END:VEVENT
BEGIN:VEVENT
DTSTART;TZID=UTC:20180819T080000
DTEND;TZID=UTC:20180819T170000
DTSTAMP:20260422T113820
CREATED:20180418T070652Z
LAST-MODIFIED:20180418T070652Z
UID:2864-1534665600-1534698000@www.pointmeby.com
SUMMARY:SCCA Milwaukee AX #8
DESCRIPTION:
URL:https://www.pointmeby.com/event/scca-milwaukee-ax-8/
LOCATION:Miller Park\, 1 Brewers Way\, Milwaukee\, WI\, 53214\, United States
CATEGORIES:Autocross
ATTACH;FMTTYPE=image/jpeg:https://www.pointmeby.com/wp-content/uploads/2017/01/sccatn.jpg
END:VEVENT
BEGIN:VEVENT
DTSTART;TZID=UTC:20180818T080000
DTEND;TZID=UTC:20180819T170000
DTSTAMP:20260422T113820
CREATED:20180418T054609Z
LAST-MODIFIED:20180418T054609Z
UID:2809-1534579200-1534698000@www.pointmeby.com
SUMMARY:Ferrari Club at Putnam Park
DESCRIPTION:
URL:https://www.pointmeby.com/event/ferrari-club-at-putnam-park/
LOCATION:Putnam Park\, 5251 S Co Rd 550 E\, Greencastle\, IN\, 46135\, United States
CATEGORIES:Track Day HPDE
ATTACH;FMTTYPE=image/jpeg:https://www.pointmeby.com/wp-content/uploads/2017/01/ferrari.jpg
END:VEVENT
BEGIN:VEVENT
DTSTART;TZID=UTC:20180818T080000
DTEND;TZID=UTC:20180818T170000
DTSTAMP:20260422T113820
CREATED:20180418T060539Z
LAST-MODIFIED:20180418T060539Z
UID:2821-1534579200-1534611600@www.pointmeby.com
SUMMARY:MCSCC HPDE/HSAX 4
DESCRIPTION:HPDE + High Speed Autocross Event
URL:https://www.pointmeby.com/event/mcscc-hpde-hsax-4/
LOCATION:Autobahn Country Club\, 3795 Centerpoint Way\, Joliet\, IL\, 60436\, United States
CATEGORIES:Track Day HPDE
ATTACH;FMTTYPE=image/gif:https://www.pointmeby.com/wp-content/uploads/2018/04/mwscc.gif
END:VEVENT
BEGIN:VEVENT
DTSTART;TZID=UTC:20180815T080000
DTEND;TZID=UTC:20180815T170000
DTSTAMP:20260422T113820
CREATED:20180418T145012Z
LAST-MODIFIED:20180418T145012Z
UID:3029-1534320000-1534352400@www.pointmeby.com
SUMMARY:Blackhawk Farms Track Day
DESCRIPTION:
URL:https://www.pointmeby.com/event/blackhawk-farms-track-day-10/
LOCATION:Blackhawk Farms\, 15538 Prairie Rd\, South Beloit\, IL\, 61080\, United States
CATEGORIES:Track Day HPDE
ATTACH;FMTTYPE=image/jpeg:https://www.pointmeby.com/wp-content/uploads/2017/01/bhf.jpg
END:VEVENT
BEGIN:VEVENT
DTSTART;TZID=UTC:20180814T080000
DTEND;TZID=UTC:20180815T170000
DTSTAMP:20260422T113820
CREATED:20171126T195516Z
LAST-MODIFIED:20171126T195516Z
UID:2630-1534233600-1534352400@www.pointmeby.com
SUMMARY:Mohawk Track Experience GingerMan
DESCRIPTION:
URL:https://www.pointmeby.com/event/mohawk-track-experience-gingerman/
LOCATION:GingerMan Raceway\, 61414 Co Rd 388\, South Haven\, MI\, 49090\, United States
CATEGORIES:Track Day HPDE
ATTACH;FMTTYPE=image/jpeg:https://www.pointmeby.com/wp-content/uploads/2017/11/DSC09170.jpg
END:VEVENT
BEGIN:VEVENT
DTSTART;TZID=UTC:20180813T080000
DTEND;TZID=UTC:20180813T170000
DTSTAMP:20260422T113820
CREATED:20180114T072711Z
LAST-MODIFIED:20180114T072711Z
UID:2686-1534147200-1534179600@www.pointmeby.com
SUMMARY:Badger Bimmers at Blackhawk Farms
DESCRIPTION:
URL:https://www.pointmeby.com/event/badger-bimmers-blackhawk-farms-2/
LOCATION:Blackhawk Farms\, 15538 Prairie Rd\, South Beloit\, IL\, 61080\, United States
CATEGORIES:Track Day HPDE
ATTACH;FMTTYPE=image/jpeg:https://www.pointmeby.com/wp-content/uploads/2017/01/badger.jpg
END:VEVENT
BEGIN:VEVENT
DTSTART;TZID=UTC:20180812T080000
DTEND;TZID=UTC:20180812T170000
DTSTAMP:20260422T113820
CREATED:20180114T164242Z
LAST-MODIFIED:20180114T164242Z
UID:2764-1534060800-1534093200@www.pointmeby.com
SUMMARY:FVSCC Autocross
DESCRIPTION:
URL:https://www.pointmeby.com/event/fvscc-autocross/
LOCATION:Road America\, N7390 WI-67\, Plymouth\, WI\, 53073\, United States
CATEGORIES:Autocross
ATTACH;FMTTYPE=image/jpeg:https://www.pointmeby.com/wp-content/uploads/2018/01/fvax.jpg
END:VEVENT
BEGIN:VEVENT
DTSTART;TZID=UTC:20180811T080000
DTEND;TZID=UTC:20180812T170000
DTSTAMP:20260422T113820
CREATED:20180418T141012Z
LAST-MODIFIED:20180418T141012Z
UID:2989-1533974400-1534093200@www.pointmeby.com
SUMMARY:NASA at Autobahn South
DESCRIPTION:
URL:https://www.pointmeby.com/event/nasa-at-autobahn-south/
LOCATION:Autobahn Country Club\, 3795 Centerpoint Way\, Joliet\, IL\, 60436\, United States
CATEGORIES:Track Day HPDE
ATTACH;FMTTYPE=image/jpeg:https://www.pointmeby.com/wp-content/uploads/2017/01/nasa.jpg
END:VEVENT
BEGIN:VEVENT
DTSTART;TZID=UTC:20180811T080000
DTEND;TZID=UTC:20180811T170000
DTSTAMP:20260422T113820
CREATED:20171126T193418Z
LAST-MODIFIED:20171126T193418Z
UID:2604-1533974400-1534006800@www.pointmeby.com
SUMMARY:Windy City BMW Autocross IV
DESCRIPTION:
URL:https://www.pointmeby.com/event/windy-city-bmw-autocross-iv-2/
LOCATION:Boomers Stadium\, 1999 Springinsguth Rd\, Schaumburg\, IL\, 60193\, United States
CATEGORIES:Autocross
ATTACH;FMTTYPE=image/jpeg:https://www.pointmeby.com/wp-content/uploads/2017/01/wcax.jpg
END:VEVENT
BEGIN:VEVENT
DTSTART;TZID=UTC:20180810T080000
DTEND;TZID=UTC:20180810T170000
DTSTAMP:20260422T113820
CREATED:20180418T170151Z
LAST-MODIFIED:20180418T170151Z
UID:3036-1533888000-1533920400@www.pointmeby.com
SUMMARY:Windy City BMW @ Autobahn
DESCRIPTION:Drive the south track in the afternoon and the FULL track in the evening.
URL:https://www.pointmeby.com/event/windy-city-bmw-autobahn/
LOCATION:Autobahn Country Club\, 3795 Centerpoint Way\, Joliet\, IL\, 60436\, United States
CATEGORIES:Track Day HPDE
ATTACH;FMTTYPE=image/jpeg:https://www.pointmeby.com/wp-content/uploads/2017/01/wc.jpg
END:VEVENT
BEGIN:VEVENT
DTSTART;TZID=UTC:20180809T080000
DTEND;TZID=UTC:20180809T170000
DTSTAMP:20260422T113820
CREATED:20180418T111047Z
LAST-MODIFIED:20180418T111047Z
UID:2948-1533801600-1533834000@www.pointmeby.com
SUMMARY:Autobahn Drift Day Rush Hour
DESCRIPTION:AutoBahn Skidpad Drift Day
URL:https://www.pointmeby.com/event/autobahn-drift-day-rush-hour-3/
LOCATION:Autobahn Country Club\, 3795 Centerpoint Way\, Joliet\, IL\, 60436\, United States
CATEGORIES:Drift Day
ATTACH;FMTTYPE=image/jpeg:https://www.pointmeby.com/wp-content/uploads/2017/01/clubfr.jpg
END:VEVENT
BEGIN:VEVENT
DTSTART;TZID=UTC:20180808T080000
DTEND;TZID=UTC:20180808T170000
DTSTAMP:20260422T113820
CREATED:20180418T142208Z
LAST-MODIFIED:20180418T142208Z
UID:2996-1533715200-1533747600@www.pointmeby.com
SUMMARY:GingerMan Raceway Evening Test N Tune
DESCRIPTION:Space is limited\, pre-registration is mandatory.\nall novice drivers must have an instructor or have 3 previous track days. \nRegistration is $105/driver. \nDrivers meeting starts at 5:10pm  track hot at 5:30pm\nClosed wheel drivers welcome.\nTwo or three run groups alternating 20 minute sessions.\nEach run group is scheduled for at least three sessions.\nCamping available at the GingerMan.  $10 per night\, per person.\n30amp electric hook-up available.\nThere is a $10 admission fee for non-drivers.
URL:https://www.pointmeby.com/event/gingerman-raceway-evening-test-n-tune-3/
LOCATION:GingerMan Raceway\, 61414 Co Rd 388\, South Haven\, MI\, 49090\, United States
CATEGORIES:Track Day HPDE
ATTACH;FMTTYPE=image/jpeg:https://www.pointmeby.com/wp-content/uploads/2017/01/gman.jpg
END:VEVENT
BEGIN:VEVENT
DTSTART;TZID=UTC:20180807T080000
DTEND;TZID=UTC:20180807T170000
DTSTAMP:20260422T113820
CREATED:20180114T065023Z
LAST-MODIFIED:20180114T065023Z
UID:2649-1533628800-1533661200@www.pointmeby.com
SUMMARY:Milwaukee Track Days - Road America
DESCRIPTION:
URL:https://www.pointmeby.com/event/milwaukee-track-days-road-america/
LOCATION:Road America\, N7390 WI-67\, Plymouth\, WI\, 53073\, United States
CATEGORIES:Track Day HPDE
ATTACH;FMTTYPE=image/jpeg:https://www.pointmeby.com/wp-content/uploads/2017/10/formula01.jpg
END:VEVENT
END:VCALENDAR